BEGIN:VCALENDAR
VERSION:2.0
PRODID:-//eventon.com NONSGML v1.0//EN
CALSCALE:GREGORIAN
METHOD:PUBLISH
BEGIN:VEVENT
UID:69ea09eab5a66
DTSTAMP:20260423T120042Z
DTSTART:20240605T110000Z
DTEND:20240606T030000Z
LOCATION:Bus departs from CASA 117 Gayley Street Media\,  PA 19063
SUMMARY:June Advocacy Day at the Pennsylvania State Capitol
DESCRIPTION:Meet with your state legislators to talk about how the state ca
 n support K12 Public Education and demand funding to fix our crumbling scho
 ol buildings.  Your voice is crucial in passing a state budget that expand
 s public investment in public schools. SIGN UP NOW Contact Shirlee Howe at 
 215-563-5848 x341[..]\nhttps://voicesforchildrendelco.org/events/june-advoc
 acy-day-at-the-pennsylvania-state-capitol/
URL:https://voicesforchildrendelco.org/events/june-advocacy-day-at-the-pennsylvania-state-capitol/
END:VEVENT
END:VCALENDAR