BEGIN:VCALENDAR
VERSION:2.0
PRODID:-//eventon.com NONSGML v1.0//EN
CALSCALE:GREGORIAN
METHOD:PUBLISH
BEGIN:VEVENT
UID:69e9e9c59bcd1
DTSTAMP:20260423T094333Z
DTSTART:20231206T190000Z
DTEND:20231206T200000Z
LOCATION:
SUMMARY:Voices for Children Action Team Meeting 2023
DESCRIPTION:Voices for Children&#8217;s monthly Action Team Meeting The foc
 us of Voices for Children is to increase child wellbeing in Delaware County
 . We gather and create a community of service providers and community membe
 rs to understand gaps in services\,  and suggest systems level solutions to
  those gaps. We share resources\,  advocacy[..]\nhttps://voicesforchildrend
 elco.org/events/voices-for-children-action-team-meeting-2023/
URL:https://voicesforchildrendelco.org/events/voices-for-children-action-team-meeting-2023/
END:VEVENT
END:VCALENDAR